BEGIN:VCALENDAR
VERSION:2.0
PRODID:-//Squarespace Inc/Squarespace 6//v6//EN
BEGIN:VEVENT
UID:59b122debce1769fc0fea5a5@squarespace.com
DTSTAMP:20170908T183236Z
DTSTART:20170930T110000Z
DTEND:20170930T120000Z
SUMMARY:Mother Presents: Party For Choice // Post March BBQ-D
GEO:53.344914;-6.264839
LOCATION:The Hub\, Eustace Street\, Dublin\, County Dublin\, Ireland
END:VEVENT
END:VCALENDAR
