BEGIN:VCALENDAR
VERSION:2.0
PRODID:-//Squarespace Inc/Squarespace 6//v6//EN
BEGIN:VEVENT
UID:59b12b6df5e2311799ec25f5@squarespace.com
DTSTAMP:20170908T183714Z
DTSTART:20170805T113000Z
DTEND:20170805T123000Z
SUMMARY:Mother ft. Michael Pope: Guardian of Le Galaxie
GEO:53.344914;-6.264839
LOCATION:The Hub\, Eustace Street\, Dublin\, County Dublin\, Ireland
END:VEVENT
END:VCALENDAR
