BEGIN:VCALENDAR
VERSION:2.0
PRODID:-//Squarespace Inc/Squarespace 6//v6//EN
BEGIN:VEVENT
UID:59b12a1a37c581cec3cc1eba@squarespace.com
DTSTAMP:20170908T183549Z
DTSTART:20170819T113000Z
DTEND:20170819T123000Z
SUMMARY:Mother ft. Kelly Anne Byrne // Four Hour Set
GEO:53.344914;-6.264839
LOCATION:The Hub\, Eustace Street\, Dublin\, County Dublin\, Ireland
END:VEVENT
END:VCALENDAR
