BEGIN:VCALENDAR
VERSION:2.0
PRODID:-//Squarespace Inc/Squarespace 6//v6//EN
BEGIN:VEVENT
UID:59b129d6d7bdcec26600fd58@squarespace.com
DTSTAMP:20170908T183602Z
DTSTART:20170826T113000Z
DTEND:20170826T123000Z
SUMMARY:Mother ft Claire Beck
GEO:53.344914;-6.264839
LOCATION:The Hub\, Eustace Street\, Dublin\, County Dublin\, Ireland
END:VEVENT
END:VCALENDAR
