BEGIN:VCALENDAR
VERSION:2.0
PRODID:-//Squarespace Inc/Squarespace 6//v6//EN
BEGIN:VEVENT
UID:59b128fc2278e70e9fa99cae@squarespace.com
DTSTAMP:20170908T183205Z
DTSTART:20170909T113000Z
DTEND:20170909T123000Z
SUMMARY:Mother ft. Arveene + Bon Voyage
GEO:53.344914;-6.264839
LOCATION:The Hub\, Eustace Street\, Dublin\, County Dublin\, Ireland
END:VEVENT
END:VCALENDAR
