BEGIN:VCALENDAR
VERSION:2.0
PRODID:-//Squarespace Inc/Squarespace 6//v6//EN
BEGIN:VEVENT
UID:59b129a0c027d838a60144fc@squarespace.com
DTSTAMP:20170908T183319Z
DTSTART:20170902T113000Z
DTEND:20170902T123000Z
SUMMARY:Mother Dublin: Electric Orphan
GEO:53.344914;-6.264839
LOCATION:The Hub\, Eustace Street\, Dublin\, County Dublin\, Ireland
END:VEVENT
END:VCALENDAR
