BEGIN:VCALENDAR
VERSION:2.0
PRODID:-//Squarespace Inc/Squarespace 6//v6//EN
BEGIN:VEVENT
UID:59b12ab2bce1769fc0feed75@squarespace.com
DTSTAMP:20170908T183658Z
DTSTART:20170812T113000Z
DTEND:20170812T123000Z
SUMMARY:Mother: We are One. We Feel Love #DonnaSummerHolidays
GEO:53.344914;-6.264839
LOCATION:The Hub\, Eustace Street\, Dublin\, County Dublin\, Ireland
END:VEVENT
END:VCALENDAR
