BEGIN:VCALENDAR
VERSION:2.0
PRODID:-//Squarespace Inc/Squarespace 6//v6//EN
BEGIN:VEVENT
UID:59b123c4cf81e0bf5f40a499@squarespace.com
DTSTAMP:20170908T183254Z
DTSTART:20171006T110000Z
DTEND:20171006T120000Z
SUMMARY:I.NY presents: Mother x I.NY
GEO:53.344914;-6.264839
LOCATION:The Hub\, Eustace Street\, Dublin\, County Dublin\, Ireland
END:VEVENT
END:VCALENDAR
